BEGIN:VCALENDAR
VERSION:2.0
PRODID:-//Squarespace Inc/Squarespace 6//v6//EN
BEGIN:VEVENT
UID:5b3b35e170a6ad3628538359@squarespace.com
DTSTAMP:20180816T030306Z
DTSTART:20180915T191500Z
DTEND:20180915T200000Z
SUMMARY:Turning the Digital Page  | E Tahuri nei i te Whārangi Matihiko
GEO:-36.950721;174.652536
LOCATION:Titirangi War Memorial Hall\, South Titirangi Road\, Auckland\, Au
 ckland\, 0604\, New Zealand
END:VEVENT
END:VCALENDAR
