BEGIN:VCALENDAR
VERSION:2.0
PRODID:-//Squarespace Inc/Squarespace 6//v6//EN
BEGIN:VEVENT
UID:5b39e74d88251b4f1d9d0923@squarespace.com
DTSTAMP:20180816T030155Z
DTSTART:20180915T154500Z
DTEND:20180915T164500Z
SUMMARY:Women Then\, Women Now | Wāhine o Mua\, Wāhina o Nāianei
GEO:-36.939057;174.655745
LOCATION:Titrangi War Memorial Hall\, South Titirangi Road\, Auckland\, Auc
 kland\, 0604\, New Zealand
END:VEVENT
END:VCALENDAR
