BEGIN:VCALENDAR
VERSION:2.0
PRODID:-//Squarespace Inc/Squarespace 6//v6//EN
BEGIN:VEVENT
UID:5b39e2740e2e7259739b2ad7@squarespace.com
DTSTAMP:20180816T030112Z
DTSTART:20180915T140000Z
DTEND:20180915T144500Z
SUMMARY:Words Fly from a Windy City | Ka Rere te Kupu i te Tāone Hauhau
GEO:-36.939057;174.655745
LOCATION:Titirangi War Memorial Hall\, South Titirangi Road\, Auckland\, Au
 ckland\, 0604\, New Zealand
END:VEVENT
END:VCALENDAR
