BEGIN:VCALENDAR
VERSION:2.0
PRODID:-//Squarespace Inc/Squarespace 6//v6//EN
BEGIN:VEVENT
UID:5b39e4db2b6a280422267472@squarespace.com
DTSTAMP:20180816T030134Z
DTSTART:20180915T150000Z
DTEND:20180916T034500Z
SUMMARY:Writing the Landscape of Family  | Te Tuhi i te Whakapapa o te Whān
 au
GEO:-36.939057;174.655745
LOCATION:Titirangi War Memorial Hall\, South Titirangi Road\, Auckland\, Au
 ckland\, 0604\, New Zealand
END:VEVENT
END:VCALENDAR
