BEGIN:VCALENDAR
VERSION:2.0
PRODID:-//Squarespace Inc/Squarespace 6//v6//EN
BEGIN:VEVENT
UID:5b3c84e6575d1fd7a4612ce1@squarespace.com
DTSTAMP:20180816T030533Z
DTSTART:20180916T200000Z
DTEND:20180916T204500Z
SUMMARY:A New Place to Stand | He Tūrangawaewae Hou
GEO:-36.939057;174.655745
LOCATION:Titirangi War Memorial Hall\, South Titirangi Road\, Auckland\, Au
 ckland\, 0604\, New Zealand
END:VEVENT
END:VCALENDAR
