BEGIN:VCALENDAR
VERSION:2.0
PRODID:-//Squarespace Inc/Squarespace 6//v6//EN
BEGIN:VEVENT
UID:5b3c8029562fa782f9d3dbed@squarespace.com
DTSTAMP:20180816T030453Z
DTSTART:20180916T173000Z
DTEND:20180916T181500Z
SUMMARY:Excavating Memory  | Te Huke i Ngā Mahara
GEO:-36.950721;174.652536
LOCATION:Titirangi War Memorial Hall\, South Titirangi Road\, Auckland\, Au
 ckland\, 0604\, New Zealand
END:VEVENT
END:VCALENDAR
