BEGIN:VCALENDAR
VERSION:2.0
PRODID:-//Squarespace Inc/Squarespace 6//v6//EN
BEGIN:VEVENT
UID:5b3c7ab370a6ad4a13733138@squarespace.com
DTSTAMP:20180816T030419Z
DTSTART:20180916T150000Z
DTEND:20180916T154500Z
SUMMARY:From a Certain Point of View  | I Tētahi Tirohanga Motuhake
GEO:-36.950721;174.652536
LOCATION:Titirangi War Memorial Hall\, South Titirangi Road\, Auckland\, Au
 ckland\, 0604\, New Zealand
END:VEVENT
END:VCALENDAR
