BEGIN:VCALENDAR
VERSION:2.0
PRODID:-//Squarespace Inc/Squarespace 6//v6//EN
BEGIN:VEVENT
UID:5b3f0de3562fa72b1ce9f026@squarespace.com
DTSTAMP:20180903T001000Z
DTSTART:20180916T150000Z
DTEND:20180916T190000Z
SUMMARY:Indie Book Fair
GEO:-36.938308;174.655186
LOCATION:Te Uru Waitakere Contemporary Gallery\, 420 Titirangi Road\, Auckl
 and\, Auckland\, 0604\, New Zealand
END:VEVENT
END:VCALENDAR
