BEGIN:VCALENDAR
VERSION:2.0
PRODID:-//Squarespace Inc/Squarespace 6//v6//EN
BEGIN:VEVENT
UID:5b98c1a96d2a7391a85c2175@squarespace.com
DTSTAMP:20180912T074018Z
DTSTART:20180916T150000Z
DTEND:20180916T180000Z
SUMMARY:The Going West Fringe Programme
GEO:-36.939057;174.655745
LOCATION:Titirangi Library\, 500 South Titirangi Road\, Auckland\, Auckland
 \, 0604\, New Zealand
END:VEVENT
END:VCALENDAR
