BEGIN:VCALENDAR
VERSION:2.0
PRODID:-//Squarespace Inc/Squarespace 6//v6//EN
BEGIN:VEVENT
UID:5b3c824af950b77f516fb8d2@squarespace.com
DTSTAMP:20180816T030507Z
DTSTART:20180916T181500Z
DTEND:20180916T190000Z
SUMMARY:Tōku reo\, tōku ohooho | My Language\, My Awakening
GEO:-36.939057;174.655745
LOCATION:Titirangi War Memorial Hall\, South Titirangi Road\, Auckland\, Au
 ckland\, 0604\, New Zealand
END:VEVENT
END:VCALENDAR
