BEGIN:VCALENDAR
VERSION:2.0
PRODID:-//Squarespace Inc/Squarespace 6//v6//EN
BEGIN:VEVENT
UID:5b46b45a88251b9e620c8f3f@squarespace.com
DTSTAMP:20180712T073958Z
DTSTART:20180915T220000Z
DTEND:20180917T000000Z
SUMMARY:Whakarongo Mai - Play Readings
GEO:-36.876722;174.627288
LOCATION:The Cellar\, Corban Estate Arts Centre\, Mount Lebanon Lane\, Auck
 land\, Auckland\, New Zealand
END:VEVENT
END:VCALENDAR
