BEGIN:VCALENDAR
VERSION:2.0
PRODID:-//Squarespace Inc/Squarespace 6//v6//EN
BEGIN:VEVENT
UID:5b3c7d9a562fa782f9d3aa53@squarespace.com
DTSTAMP:20180816T030437Z
DTSTART:20180916T154500Z
DTEND:20180916T163000Z
SUMMARY:Wrestling with the Robots  | Te Mamau i Ngā Karetao
GEO:-36.939057;174.655745
LOCATION:Titirangi War Memorial Hall\, South Titirangi Road\, Auckland\, Au
 ckland\, 0604\, New Zealand
END:VEVENT
END:VCALENDAR
