BEGIN:VCALENDAR
VERSION:2.0
PRODID:-//Squarespace Inc/Squarespace 6//v6//EN
BEGIN:VEVENT
UID:5b3efd1a0e2e72d1647335cc@squarespace.com
DTSTAMP:20180806T203452Z
DTSTART:20180929T140000Z
DTEND:20180930T200000Z
SUMMARY:Massive Foundations 
GEO:-36.913043;174.649855
LOCATION:Glen Eden Community Centre\, 44 Glendale Road\, Auckland\, Aucklan
 d\, 0602\, New Zealand
END:VEVENT
END:VCALENDAR
