BEGIN:VCALENDAR
VERSION:2.0
PRODID:-//Squarespace Inc/Squarespace 6//v6//EN
BEGIN:VEVENT
UID:5b3f05cc2b6a28ba992e52b0@squarespace.com
DTSTAMP:20180806T202958Z
DTSTART:20180906T223000Z
DTEND:20180913T150000Z
SUMMARY:Human Libraries - Titirangi
GEO:-36.950721;174.652536
LOCATION:Titirangi Library\, South Titirangi Road\, Auckland\, Auckland\, 0
 604\, New Zealand
END:VEVENT
END:VCALENDAR
