BEGIN:VCALENDAR
VERSION:2.0
PRODID:-//Squarespace Inc/Squarespace 6//v6//EN
BEGIN:VEVENT
UID:5b3f03a8352f532fb849a4d5@squarespace.com
DTSTAMP:20180806T202940Z
DTSTART:20180904T150000Z
DTEND:20180911T223000Z
SUMMARY:Human Libraries - Glen Eden
GEO:-36.911094;174.649975
LOCATION:Glen Eden Library\, 12/32 Glendale Road\, Auckland\, Auckland\, 06
 02\, New Zealand
END:VEVENT
END:VCALENDAR
