BEGIN:VCALENDAR
VERSION:2.0
PRODID:-//Squarespace Inc/Squarespace 6//v6//EN
BEGIN:VEVENT
UID:5b46ae13aa4a99d99e8f2fba@squarespace.com
DTSTAMP:20180816T025734Z
DTSTART:20180905T233000Z
DTEND:20180909T013000Z
SUMMARY:Mātakitaki Mai - Live Theatre: Cradle Song by Albert Belz
GEO:-36.87591;174.626891
LOCATION:The Church\, Corban Estate Arts Centre\, Mount Lebanon Lane\, Auck
 land\, Auckland\, New Zealand
END:VEVENT
END:VCALENDAR
