BEGIN:VCALENDAR
VERSION:2.0
PRODID:-//Squarespace Inc/Squarespace 6//v6//EN
BEGIN:VEVENT
UID:5b3efa67f950b70f7af94caf@squarespace.com
DTSTAMP:20180816T025821Z
DTSTART:20180907T230000Z
DTEND:20180908T010000Z
SUMMARY:Sightings - A Massive Company Production
GEO:-36.910911;174.649035
LOCATION:Glen Eden Play House\, 15 Glendale Road\, Auckland\, Auckland\, 06
 02\, New Zealand
END:VEVENT
END:VCALENDAR
