BEGIN:VCALENDAR
VERSION:2.0
PRODID:-//Squarespace Inc/Squarespace 6//v6//EN
BEGIN:VEVENT
UID:5b3f06a570a6adf4a59d69f3@squarespace.com
DTSTAMP:20180712T074350Z
DTSTART:20180907T230000Z
DTEND:20180908T020000Z
SUMMARY:Word Up! Grand Finale
GEO:-36.87591;174.626891
LOCATION:Shed 1\, Corban Estate Art Centre\, Mount Lebanon Lane\, Auckland\
 , Auckland\, New Zealand
END:VEVENT
END:VCALENDAR
