BEGIN:VCALENDAR
VERSION:2.0
PRODID:-//Squarespace Inc/Squarespace 6//v6//EN
BEGIN:VEVENT
UID:5b3f07e1f950b70f7afa7e1f@squarespace.com
DTSTAMP:20180719T050750Z
DTSTART:20180908T230000Z
DTEND:20180909T020000Z
SUMMARY:Poetry Slam
GEO:-36.911053;174.649331
LOCATION:Glen Eden Play House\, 15 Glendale Road\, Auckland\, Auckland\, 06
 02\, New Zealand
END:VEVENT
END:VCALENDAR
