BEGIN:VCALENDAR
VERSION:2.0
PRODID:-//Squarespace Inc/Squarespace 6//v6//EN
BEGIN:VEVENT
UID:5b4db6b2aa4a99d6f5b68942@squarespace.com
DTSTAMP:20180718T222840Z
DTSTART:20180909T190000Z
DTEND:20180909T200000Z
SUMMARY:An Oceanic Feeling. Book Launch and Screening
GEO:-36.938238;174.655611
LOCATION:Titirangi Theatre\, 418 Titirangi Road\, Auckland\, Auckland\, 060
 4\, New Zealand
END:VEVENT
END:VCALENDAR
